BEGIN:VCALENDAR
VERSION:2.0
CALSCALE:GREGORIAN
PRODID:-//Diputació de Barcelona//DibaCMS//EN
BEGIN:VEVENT
UID:1561
DTSTAMP:20260423T082613
DTSTART:20190309T100000
DTEND:20190309T140000
SUMMARY:Taller: Fem autodefensa
LOCATION:Can Casademunt, s/n  08445 Cànoves i Samalús
METHOD:PUBLISH
X-WR-CALNAME:canovesisamalus@canovesisamalus.cat
X-WR-TIMEZONE:Europe/Madrid
DESCRIPTION:Fem autodefensa! Amb la Karin Konkle

Taller d'autodefensa per a dones i per a donar-nos eines per defensar-nos de les agressions masclistes. ​

 

URI:https://www.canovesisamalus.cat/actualitat/agenda-municipal/taller-fem-autodefensa.html
CLASS:PUBLIC
END:VEVENT
END:VCALENDAR
