BEGIN:VCALENDAR
VERSION:2.0
CALSCALE:GREGORIAN
PRODID:-//Diputació de Barcelona//DibaCMS//EN
BEGIN:VEVENT
UID:1586
DTSTAMP:20260423T083556
DTSTART:20190303T100000
DTEND:20190303T200000
SUMMARY:2a Rua de Carnestoltes
LOCATION:Nucli de Cànoves 
METHOD:PUBLISH
X-WR-CALNAME:canovesisamalus@canovesisamalus.cat
X-WR-TIMEZONE:Europe/Madrid
DESCRIPTION:El Rei Carnestoltes anuncia que Diumenge 3 de Març es portarà a terme la 2ª RUA DE CARNESTOLTES DE CÀNOVES I SAMALÚS!!

Data límit per la inscripció: 22 de febrer

URI:https://www.canovesisamalus.cat/actualitat/agenda-municipal/2a-rua-de-carnestoltes.html
CLASS:PUBLIC
END:VEVENT
END:VCALENDAR
