BEGIN:VCALENDAR
VERSION:2.0
CALSCALE:GREGORIAN
PRODID:-//Diputació de Barcelona//DibaCMS//EN
BEGIN:VEVENT
UID:1647
DTSTAMP:20260423T083337
DTSTART:20190311T102700
DTEND:20190410T000000
SUMMARY:Cànoves ja fuma
LOCATION:
METHOD:PUBLISH
X-WR-CALNAME:canovesisamalus@canovesisamalus.cat
X-WR-TIMEZONE:Europe/Madrid
DESCRIPTION:Ahir diumenge va ser el dia en què tenia lloc l’acte oficial d’encesa de la Carbonera, dins la programació de la XIVa Mostra de Carboneig de Cànoves. 

URI:https://www.canovesisamalus.cat/actualitat/noticies/canoves-ja-fuma.html
CLASS:PUBLIC
END:VEVENT
END:VCALENDAR
