BEGIN:VCALENDAR
VERSION:2.0
CALSCALE:GREGORIAN
PRODID:-//Diputació de Barcelona//DibaCMS//EN
BEGIN:VEVENT
UID:1657
DTSTAMP:20260423T091729
DTSTART:20190328T100000
DTEND:20190328T140000
SUMMARY:Netcoffee & Workshop: Comerç internacional i vendes online
LOCATION:CSETC c. Josep Vilaseca, 23 de Cardedeu 
METHOD:PUBLISH
X-WR-CALNAME:canovesisamalus@canovesisamalus.cat
X-WR-TIMEZONE:Europe/Madrid
DESCRIPTION:Saps on es paguen els impostos en una botiga online? Com ens afectarà el Brexit? 
Dinamitzat per Marc Paredes, consultor a AGC.

 

URI:https://www.canovesisamalus.cat/actualitat/oferta-formativa/netcoffee-and-workshop-comerc-internacional-i-vendes-online.html
CLASS:PUBLIC
END:VEVENT
END:VCALENDAR
