BEGIN:VCALENDAR
VERSION:2.0
CALSCALE:GREGORIAN
PRODID:-//Diputació de Barcelona//DibaCMS//EN
BEGIN:VEVENT
UID:1830
DTSTAMP:20260423T121628
DTSTART:20190628T150000
DTEND:20190628T183000
SUMMARY:Dinar del soci i sòcia
LOCATION:Francesc Bruguera, s/n  08445 Cànoves i Samalús
METHOD:PUBLISH
X-WR-CALNAME:canovesisamalus@canovesisamalus.cat
X-WR-TIMEZONE:Europe/Madrid
DESCRIPTION:Preu Menú
Socis: 5€
No socis: 10€

 

URI:https://www.canovesisamalus.cat/actualitat/agenda-municipal/dinar-del-soci-i-socia.html
CLASS:PUBLIC
END:VEVENT
END:VCALENDAR
