BEGIN:VCALENDAR
VERSION:2.0
CALSCALE:GREGORIAN
PRODID:-//Diputació de Barcelona//DibaCMS//EN
BEGIN:VEVENT
UID:1855
DTSTAMP:20260423T122257
DTSTART:20190621T100700
DTEND:20190719T000000
SUMMARY:Catalunya arribarà als 8 milions al 2030
LOCATION:
METHOD:PUBLISH
X-WR-CALNAME:canovesisamalus@canovesisamalus.cat
X-WR-TIMEZONE:Europe/Madrid
DESCRIPTION:Segons les projeccions de població de l’Idescat, l’any 2030 la població de Catalunya arribarà als 8 milions.

URI:https://www.canovesisamalus.cat/actualitat/noticies/catalunya-arribara-als-8-milions-al-2030.html
CLASS:PUBLIC
END:VEVENT
END:VCALENDAR
