BEGIN:VCALENDAR
VERSION:2.0
CALSCALE:GREGORIAN
PRODID:-//Diputació de Barcelona//DibaCMS//EN
BEGIN:VEVENT
UID:1869
DTSTAMP:20260423T122018
DTSTART:20190628T000000
DTEND:20190629T000000
SUMMARY:Dia Internacional de l’Orgull LGTBI
LOCATION:
METHOD:PUBLISH
X-WR-CALNAME:canovesisamalus@canovesisamalus.cat
X-WR-TIMEZONE:Europe/Madrid
DESCRIPTION:Avui 28 de juny fa 50 anys dels fets ocorreguts el 28 de juny de 1969 a la ciutat de Nova York, en la revolta coneguda com Stonewall.

URI:https://www.canovesisamalus.cat/actualitat/noticies/dia-internacional-de-lorgull-lgtbi.html
CLASS:PUBLIC
END:VEVENT
END:VCALENDAR
