BEGIN:VCALENDAR
VERSION:2.0
CALSCALE:GREGORIAN
PRODID:-//Diputació de Barcelona//DibaCMS//EN
BEGIN:VEVENT
UID:1878
DTSTAMP:20260423T134836
DTSTART:20190711T080700
DTEND:20190810T000000
SUMMARY:VOTV a Cànoves i Samalús aquest juliol
LOCATION:
METHOD:PUBLISH
X-WR-CALNAME:canovesisamalus@canovesisamalus.cat
X-WR-TIMEZONE:Europe/Madrid
DESCRIPTION:Estigues al dia del què passa al municipi aquest mes de juliol.

URI:https://www.canovesisamalus.cat/actualitat/noticies/votv-a-canoves-i-samalus-aquest-juliol.html
CLASS:PUBLIC
END:VEVENT
END:VCALENDAR
