BEGIN:VCALENDAR
VERSION:2.0
CALSCALE:GREGORIAN
PRODID:-//Diputació de Barcelona//DibaCMS//EN
BEGIN:VEVENT
UID:1879
DTSTAMP:20260423T150018
DTSTART:20190712T130700
DTEND:20190811T000000
SUMMARY:El programa “Descobreix el riu” creix en participació
LOCATION:
METHOD:PUBLISH
X-WR-CALNAME:canovesisamalus@canovesisamalus.cat
X-WR-TIMEZONE:Europe/Madrid
DESCRIPTION:El programa “Descobreix el riu” tanca el curs 2018-2019 amb la participació de prop de 6.000 estudiants. 

URI:https://www.canovesisamalus.cat/actualitat/noticies/el-programa-descobreix-el-riu-creix-en-participacio.html
CLASS:PUBLIC
END:VEVENT
END:VCALENDAR
