BEGIN:VCALENDAR
VERSION:2.0
CALSCALE:GREGORIAN
PRODID:-//Diputació de Barcelona//DibaCMS//EN
BEGIN:VEVENT
UID:1881
DTSTAMP:20260423T134257
DTSTART:20190719T090000
DTEND:20190719T100000
SUMMARY:Convocatòria subvencions per a la contractació de persones desocupades 2019
LOCATION:Ajuntament de Cardedeu.  Sala de les Columnes. 
METHOD:PUBLISH
X-WR-CALNAME:canovesisamalus@canovesisamalus.cat
X-WR-TIMEZONE:Europe/Madrid
DESCRIPTION:L’Ajuntament de Cardedeu té previst aprovar en Junta de Govern Local de data 18 de juliol de 2019 la convocatòria per a la Concessió de subvencions en règim de concurrència competitiva per a empreses que contractin persones desocupades: any 2019.

URI:https://www.canovesisamalus.cat/actualitat/oferta-formativa/convocatoria-subvencions-per-a-la-contractacio-de-persones-desocupades-2019.html
CLASS:PUBLIC
END:VEVENT
END:VCALENDAR
