BEGIN:VCALENDAR
VERSION:2.0
CALSCALE:GREGORIAN
PRODID:-//Diputació de Barcelona//DibaCMS//EN
BEGIN:VEVENT
UID:1886
DTSTAMP:20260423T134541
DTSTART:20190720T160000
DTEND:20190721T235900
SUMMARY:Festa de barri del Mirador del Montseny
LOCATION:Instal·lacions zona esportiva del Mirador del Montseny 
METHOD:PUBLISH
X-WR-CALNAME:canovesisamalus@canovesisamalus.cat
X-WR-TIMEZONE:Europe/Madrid
DESCRIPTION:
URI:https://www.canovesisamalus.cat/actualitat/agenda-municipal/festa-de-barri-del-mirador-del-montseny.html
CLASS:PUBLIC
END:VEVENT
END:VCALENDAR
