BEGIN:VCALENDAR
VERSION:2.0
CALSCALE:GREGORIAN
PRODID:-//Diputació de Barcelona//DibaCMS//EN
BEGIN:VEVENT
UID:1889
DTSTAMP:20260423T150035
DTSTART:20190718T190700
DTEND:20190817T000000
SUMMARY:Ivet i Vinyet triomfen a Lanzarote
LOCATION:
METHOD:PUBLISH
X-WR-CALNAME:canovesisamalus@canovesisamalus.cat
X-WR-TIMEZONE:Europe/Madrid
DESCRIPTION:Els passats dies 5, 6 i 7 de juliol tenia lloc a Lanzarote el IV Campionat d’Espanya Aleví de natació artística i el club d’Ivet i Vinyet s’emporta la màxima del pòdium.

URI:https://www.canovesisamalus.cat/actualitat/noticies/ivet-i-vinyet-triomfen-a-lanzarote.html
CLASS:PUBLIC
END:VEVENT
END:VCALENDAR
