BEGIN:VCALENDAR
VERSION:2.0
CALSCALE:GREGORIAN
PRODID:-//Diputació de Barcelona//DibaCMS//EN
BEGIN:VEVENT
UID:1897
DTSTAMP:20260423T133420
DTSTART:20190724T090700
DTEND:20190823T000000
SUMMARY:La XVII Bicicletada del Besòs suma 8.500€ en donacions
LOCATION:
METHOD:PUBLISH
X-WR-CALNAME:canovesisamalus@canovesisamalus.cat
X-WR-TIMEZONE:Europe/Madrid
DESCRIPTION:El Consorci ha lliurat a la Fundació Oncovallès i a l’Hospital Sant Joan de Déu la donació de 8.500€  provinent de diferents empreses aconseguida en la XVII Bicicletada del Besòs.

URI:https://www.canovesisamalus.cat/actualitat/noticies/la-xvii-bicicletada-del-besos-suma-8500eur-en-donacions.html
CLASS:PUBLIC
END:VEVENT
END:VCALENDAR
