BEGIN:VCALENDAR
VERSION:2.0
CALSCALE:GREGORIAN
PRODID:-//Diputació de Barcelona//DibaCMS//EN
BEGIN:VEVENT
UID:1900
DTSTAMP:20260423T145819
DTSTART:20190726T141300
DTEND:20190825T000000
SUMMARY:El CF Cànoves pot seguir entrenant un any més
LOCATION:
METHOD:PUBLISH
X-WR-CALNAME:canovesisamalus@canovesisamalus.cat
X-WR-TIMEZONE:Europe/Madrid
DESCRIPTION:Un any més, l’ajuntament ha signat la renovació del conveni que permet al CF Cànoves seguir utilitzant les instal·lacions esportives de la Zona Esportiva Municipal de Corró d’Amunt. 

URI:https://www.canovesisamalus.cat/actualitat/noticies/el-cf-canoves-pot-seguir-entrenant-un-any-mes.html
CLASS:PUBLIC
END:VEVENT
END:VCALENDAR
