BEGIN:VCALENDAR
VERSION:2.0
CALSCALE:GREGORIAN
PRODID:-//Diputació de Barcelona//DibaCMS//EN
BEGIN:VEVENT
UID:1902
DTSTAMP:20260423T145953
DTSTART:20190824T110000
DTEND:20190824T235900
SUMMARY:Festa Major d'estiu de Samalús
LOCATION: 08445 Cànoves i Samalús
METHOD:PUBLISH
X-WR-CALNAME:canovesisamalus@canovesisamalus.cat
X-WR-TIMEZONE:Europe/Madrid
DESCRIPTION:Festa Major de la Mare de Déu de la Salut de Samalús

URI:https://www.canovesisamalus.cat/actualitat/agenda-municipal/1902-festa-major-destiu-de-samalus.html
CLASS:PUBLIC
END:VEVENT
END:VCALENDAR
