BEGIN:VCALENDAR
VERSION:2.0
CALSCALE:GREGORIAN
PRODID:-//Diputació de Barcelona//DibaCMS//EN
BEGIN:VEVENT
UID:1911
DTSTAMP:20260423T132837
DTSTART:20190828T090000
DTEND:20190918T000000
SUMMARY:VOTV aquest agost
LOCATION:
METHOD:PUBLISH
X-WR-CALNAME:canovesisamalus@canovesisamalus.cat
X-WR-TIMEZONE:Europe/Madrid
DESCRIPTION:Estigues al dia del què passa al municipi aquest mes d'agost.
 

URI:https://www.canovesisamalus.cat/actualitat/noticies/votv-aquest-agost.html
CLASS:PUBLIC
END:VEVENT
END:VCALENDAR
