BEGIN:VCALENDAR
VERSION:2.0
CALSCALE:GREGORIAN
PRODID:-//Diputació de Barcelona//DibaCMS//EN
BEGIN:VEVENT
UID:1912
DTSTAMP:20260423T133537
DTSTART:20190907T180000
DTEND:20190907T235900
SUMMARY:Festival de playback El Gamarús
LOCATION:camp de La Rectoria 
METHOD:PUBLISH
X-WR-CALNAME:canovesisamalus@canovesisamalus.cat
X-WR-TIMEZONE:Europe/Madrid
DESCRIPTION:Més informació. 

URI:https://www.canovesisamalus.cat/actualitat/agenda-municipal/festival-de-playback-el-gamarus.html
CLASS:PUBLIC
END:VEVENT
END:VCALENDAR
