BEGIN:VCALENDAR
VERSION:2.0
CALSCALE:GREGORIAN
PRODID:-//Diputació de Barcelona//DibaCMS//EN
BEGIN:VEVENT
UID:1917
DTSTAMP:20260423T133430
DTSTART:20190920T210000
DTEND:20190920T235900
SUMMARY:Festa final d'estiu a Can Volart
LOCATION:Av. Can Volart, 384  08445 Cànoves i Samalús
METHOD:PUBLISH
X-WR-CALNAME:canovesisamalus@canovesisamalus.cat
X-WR-TIMEZONE:Europe/Madrid
DESCRIPTION:Des de l'Associació de veïns de Can Volart us proposem una festa final d'estiu per fer menys feixuga la tornada 😜

Us animeu a venir?

URI:https://www.canovesisamalus.cat/actualitat/agenda-municipal/festa-final-destiu-a-can-volart.html
CLASS:PUBLIC
END:VEVENT
END:VCALENDAR
