BEGIN:VCALENDAR
VERSION:2.0
CALSCALE:GREGORIAN
PRODID:-//Diputació de Barcelona//DibaCMS//EN
BEGIN:VEVENT
UID:1926
DTSTAMP:20260423T145213
DTSTART:20190920T140000
DTEND:20191019T000000
SUMMARY:Cànoves i Samalús aquest setembre
LOCATION:
METHOD:PUBLISH
X-WR-CALNAME:canovesisamalus@canovesisamalus.cat
X-WR-TIMEZONE:Europe/Madrid
DESCRIPTION:Estigues al dia del què passa al municipi aquest mes de setembre.

URI:https://www.canovesisamalus.cat/actualitat/noticies/canoves-i-samalus-aquest-setembre.html
CLASS:PUBLIC
END:VEVENT
END:VCALENDAR
