BEGIN:VCALENDAR
VERSION:2.0
CALSCALE:GREGORIAN
PRODID:-//Diputació de Barcelona//DibaCMS//EN
BEGIN:VEVENT
UID:1939
DTSTAMP:20260423T150057
DTSTART:20191009T160000
DTEND:20191009T200000
SUMMARY:Alzheimer: Fem consciència social
LOCATION:Francesc Bruguera, s/n  08445 Cànoves i Samalús
METHOD:PUBLISH
X-WR-CALNAME:canovesisamalus@canovesisamalus.cat
X-WR-TIMEZONE:Europe/Madrid
DESCRIPTION:
URI:https://www.canovesisamalus.cat/actualitat/agenda-municipal/alzheimer-fem-consciencia-social.html
CLASS:PUBLIC
END:VEVENT
END:VCALENDAR
