BEGIN:VCALENDAR
VERSION:2.0
CALSCALE:GREGORIAN
PRODID:-//Diputació de Barcelona//DibaCMS//EN
BEGIN:VEVENT
UID:1959
DTSTAMP:20260423T145911
DTSTART:20191016T190000
DTEND:20191016T203000
SUMMARY:Xerrada-taller: Micromasclisme dins la parella
LOCATION:Can Casademunt, s/n  08445 Cànoves i Samalús
METHOD:PUBLISH
X-WR-CALNAME:canovesisamalus@canovesisamalus.cat
X-WR-TIMEZONE:Europe/Madrid
DESCRIPTION:Setmana del 13 al 18 d’octubre:  3ª Setmana de Sensibilització Afectiu-Sexual a Cànoves i Samalús.
 

URI:https://www.canovesisamalus.cat/actualitat/agenda-municipal/xerrada-taller-micromasclisme-dins-la-parella.html
CLASS:PUBLIC
END:VEVENT
END:VCALENDAR
