BEGIN:VCALENDAR
VERSION:2.0
CALSCALE:GREGORIAN
PRODID:-//Diputació de Barcelona//DibaCMS//EN
BEGIN:VEVENT
UID:1994
DTSTAMP:20260423T145845
DTSTART:20191028T081500
DTEND:20191120T000000
SUMMARY:Nova visita de l'Oficina mòbil del Consumidor
LOCATION:
METHOD:PUBLISH
X-WR-CALNAME:canovesisamalus@canovesisamalus.cat
X-WR-TIMEZONE:Europe/Madrid
DESCRIPTION:Viure en un municipi on no hi hagi un servei municipal de consum no té per què ser un entrebanc per conèixer i exercir els drets com a consumidor. 

URI:https://www.canovesisamalus.cat/actualitat/noticies/nova-visita-de-loficina-mobil-del-consumidor.html
CLASS:PUBLIC
END:VEVENT
END:VCALENDAR
