BEGIN:VCALENDAR
VERSION:2.0
CALSCALE:GREGORIAN
PRODID:-//Diputació de Barcelona//DibaCMS//EN
BEGIN:VEVENT
UID:1996
DTSTAMP:20260423T191814
DTSTART:20191130T120000
DTEND:20191130T235900
SUMMARY:Festa Major de Sant Andreu de Samalús
LOCATION: 08445 Cànoves i Samalús
METHOD:PUBLISH
X-WR-CALNAME:canovesisamalus@canovesisamalus.cat
X-WR-TIMEZONE:Europe/Madrid
DESCRIPTION:
URI:https://www.canovesisamalus.cat/actualitat/agenda-municipal/1996-festa-major-de-sant-andreu-de-samalus.html
CLASS:PUBLIC
END:VEVENT
END:VCALENDAR
