BEGIN:VCALENDAR
VERSION:2.0
CALSCALE:GREGORIAN
PRODID:-//Diputació de Barcelona//DibaCMS//EN
BEGIN:VEVENT
UID:2002
DTSTAMP:20260423T145803
DTSTART:20191102T100000
DTEND:20191102T190000
SUMMARY:1020: Normands al servei d'Ermessenda
LOCATION:Entrada a l'entrada de Ca l'Esmandia per la crta. de Cardedeu.  Estarà senyalitzat. 
METHOD:PUBLISH
X-WR-CALNAME:canovesisamalus@canovesisamalus.cat
X-WR-TIMEZONE:Europe/Madrid
DESCRIPTION:Dies 2 i 3 de novembre de 2019

URI:https://www.canovesisamalus.cat/actualitat/agenda-municipal/2002-1020-normands-al-servei-dermessenda.html
CLASS:PUBLIC
END:VEVENT
END:VCALENDAR
