BEGIN:VCALENDAR
VERSION:2.0
CALSCALE:GREGORIAN
PRODID:-//Diputació de Barcelona//DibaCMS//EN
BEGIN:VEVENT
UID:2015
DTSTAMP:20260423T204552
DTSTART:20191112T130000
DTEND:20191205T000000
SUMMARY:Ja s'ha iniciat la temporada de vacunació contra la grip 
LOCATION:
METHOD:PUBLISH
X-WR-CALNAME:canovesisamalus@canovesisamalus.cat
X-WR-TIMEZONE:Europe/Madrid
DESCRIPTION:L’objectiu d’aquest any és millorar la cobertura de vacunació en majors de 60 anys, persones amb problemes crònics i condicions de risc, professionals sanitaris i embarassades.

URI:https://www.canovesisamalus.cat/actualitat/noticies/ja-sha-iniciat-la-temporada-de-vacunacio-contra-la-grip-.html
CLASS:PUBLIC
END:VEVENT
END:VCALENDAR
