BEGIN:VCALENDAR
VERSION:2.0
CALSCALE:GREGORIAN
PRODID:-//Diputació de Barcelona//DibaCMS//EN
BEGIN:VEVENT
UID:2022
DTSTAMP:20260423T145938
DTSTART:20191114T090000
DTEND:20191206T000000
SUMMARY:Convocat el V Premi de Treballs Acadèmics Consorci Besòs Tordera
LOCATION:
METHOD:PUBLISH
X-WR-CALNAME:canovesisamalus@canovesisamalus.cat
X-WR-TIMEZONE:Europe/Madrid
DESCRIPTION:Els estudiants podran presentar els seus treballs dedicats a l’aigua i/o als espais fluvials fins al 29 de maig de 2020.

URI:https://www.canovesisamalus.cat/actualitat/noticies/convocat-el-v-premi-de-treballs-academics-consorci-besos-tordera.html
CLASS:PUBLIC
END:VEVENT
END:VCALENDAR
