BEGIN:VCALENDAR
VERSION:2.0
CALSCALE:GREGORIAN
PRODID:-//Diputació de Barcelona//DibaCMS//EN
BEGIN:VEVENT
UID:2029
DTSTAMP:20260423T191851
DTSTART:20191123T190000
DTEND:20191123T203000
SUMMARY:Actuació poètica i xerrada
LOCATION: 08445 Cànoves i Samalús
METHOD:PUBLISH
X-WR-CALNAME:canovesisamalus@canovesisamalus.cat
X-WR-TIMEZONE:Europe/Madrid
DESCRIPTION:La companyia Poèsica presenta: "Tractes"

URI:https://www.canovesisamalus.cat/actualitat/agenda-municipal/actuacio-poetica-i-xerrada.html
CLASS:PUBLIC
END:VEVENT
END:VCALENDAR
