BEGIN:VCALENDAR
VERSION:2.0
CALSCALE:GREGORIAN
PRODID:-//Diputació de Barcelona//DibaCMS//EN
BEGIN:VEVENT
UID:2033
DTSTAMP:20260423T163253
DTSTART:20191111T080500
DTEND:20191211T000000
SUMMARY:Resultats de les Eleccions Generals de 10 de novembre
LOCATION:
METHOD:PUBLISH
X-WR-CALNAME:canovesisamalus@canovesisamalus.cat
X-WR-TIMEZONE:Europe/Madrid
DESCRIPTION:Vegeu els resultats de les eleccions generals 2019 celebrades ahir 10 de novembre.

URI:https://www.canovesisamalus.cat/actualitat/noticies/resultats-de-les-eleccions-generals-de-10-de-novembre.html
CLASS:PUBLIC
END:VEVENT
END:VCALENDAR
