BEGIN:VCALENDAR
VERSION:2.0
CALSCALE:GREGORIAN
PRODID:-//Diputació de Barcelona//DibaCMS//EN
BEGIN:VEVENT
UID:2038
DTSTAMP:20260423T192907
DTSTART:20191125T160000
DTEND:20191125T180000
SUMMARY:Sabates vermelles contra la violència masclista
LOCATION:Espai Jove 
METHOD:PUBLISH
X-WR-CALNAME:canovesisamalus@canovesisamalus.cat
X-WR-TIMEZONE:Europe/Madrid
DESCRIPTION:Activitat emmarcada dins el 25N, dia internacional per l'eliminació de la violència contra les dones.

URI:https://www.canovesisamalus.cat/actualitat/agenda-municipal/sabates-vermelles-contra-la-violencia-masclista.html
CLASS:PUBLIC
END:VEVENT
END:VCALENDAR
