BEGIN:VCALENDAR
VERSION:2.0
CALSCALE:GREGORIAN
PRODID:-//Diputació de Barcelona//DibaCMS//EN
BEGIN:VEVENT
UID:2040
DTSTAMP:20260423T204320
DTSTART:20191115T190000
DTEND:20191212T000000
SUMMARY:Mostreig de macroinvertebrats i de peixos per conèixer la qualitat del riu Congost
LOCATION:
METHOD:PUBLISH
X-WR-CALNAME:canovesisamalus@canovesisamalus.cat
X-WR-TIMEZONE:Europe/Madrid
DESCRIPTION:Aquestes activitats d’educació ambiental, emmarcades dins el PROECA, són obertes a tota la ciutadania.

URI:https://www.canovesisamalus.cat/actualitat/noticies/mostreig-de-macroinvertebrats-i-de-peixos-per-coneixer-la-qualitat-del-riu-congost.html
CLASS:PUBLIC
END:VEVENT
END:VCALENDAR
