BEGIN:VCALENDAR
VERSION:2.0
CALSCALE:GREGORIAN
PRODID:-//Diputació de Barcelona//DibaCMS//EN
BEGIN:VEVENT
UID:2041
DTSTAMP:20260423T204350
DTSTART:20191128T173000
DTEND:20191128T190000
SUMMARY:Taller artístic i participatiu sobre la violència de gènere
LOCATION:Can Casademunt, s/n  08445 Cànoves i Samalús
METHOD:PUBLISH
X-WR-CALNAME:canovesisamalus@canovesisamalus.cat
X-WR-TIMEZONE:Europe/Madrid
DESCRIPTION:ACTE ANUL·LAT

Activitat emmarcada dins el 25N, dia internacional per l'eliminació de la violència contra les dones.

URI:https://www.canovesisamalus.cat/actualitat/agenda-municipal/taller-artistic-i-participatiu-sobre-la-violencia-de-genere.html
CLASS:PUBLIC
END:VEVENT
END:VCALENDAR
