BEGIN:VCALENDAR
VERSION:2.0
CALSCALE:GREGORIAN
PRODID:-//Diputació de Barcelona//DibaCMS//EN
BEGIN:VEVENT
UID:2049
DTSTAMP:20260423T220614
DTSTART:20191220T170000
DTEND:20191220T190000
SUMMARY:Cagatió i Animació
LOCATION:Can Casademunt, s/n  08445 Cànoves i Samalús
METHOD:PUBLISH
X-WR-CALNAME:canovesisamalus@canovesisamalus.cat
X-WR-TIMEZONE:Europe/Madrid
DESCRIPTION:Activitat programada dins les activitats nadalenques de Cànoves i Samalús 2019-20.

URI:https://www.canovesisamalus.cat/actualitat/agenda-municipal/cagatio-i-animacio.html
CLASS:PUBLIC
END:VEVENT
END:VCALENDAR
