BEGIN:VCALENDAR
VERSION:2.0
CALSCALE:GREGORIAN
PRODID:-//Diputació de Barcelona//DibaCMS//EN
BEGIN:VEVENT
UID:2053
DTSTAMP:20260423T204828
DTSTART:20200103T170000
DTEND:20200103T180000
SUMMARY:Taller de fanalets
LOCATION:Can Casademunt, s/n  08445 Cànoves i Samalús
METHOD:PUBLISH
X-WR-CALNAME:canovesisamalus@canovesisamalus.cat
X-WR-TIMEZONE:Europe/Madrid
DESCRIPTION:Durant les festes de Nadal, l’Associació el Sui de Festes i Tradicions de Cànoves, posa un pessebre al costat de l’Església de Sant Muç.
 

URI:https://www.canovesisamalus.cat/actualitat/agenda-municipal/2053-taller-de-fanalets.html
CLASS:PUBLIC
END:VEVENT
END:VCALENDAR
