BEGIN:VCALENDAR
VERSION:2.0
CALSCALE:GREGORIAN
PRODID:-//Diputació de Barcelona//DibaCMS//EN
BEGIN:VEVENT
UID:2058
DTSTAMP:20260423T220110
DTSTART:20191128T173000
DTEND:20191128T200000
SUMMARY:Diem NO a la violència masclista
LOCATION:Can Casademunt, s/n  08445 Cànoves i Samalús
METHOD:PUBLISH
X-WR-CALNAME:canovesisamalus@canovesisamalus.cat
X-WR-TIMEZONE:Europe/Madrid
DESCRIPTION:Activitats programades arreu del municipi en motiu de la Campanya del 25N: Diem NO a la violència masclista.

URI:https://www.canovesisamalus.cat/actualitat/agenda-municipal/2058-diem-no-a-la-violencia-masclista.html
CLASS:PUBLIC
END:VEVENT
END:VCALENDAR
