BEGIN:VCALENDAR
VERSION:2.0
CALSCALE:GREGORIAN
PRODID:-//Diputació de Barcelona//DibaCMS//EN
BEGIN:VEVENT
UID:2059
DTSTAMP:20260423T204452
DTSTART:20191119T124500
DTEND:20191219T000000
SUMMARY:La fibra òptica ja és una realitat a Cànoves i Samalús
LOCATION:
METHOD:PUBLISH
X-WR-CALNAME:canovesisamalus@canovesisamalus.cat
X-WR-TIMEZONE:Europe/Madrid
DESCRIPTION:​La xarxa de fibra òptica se segueix estenent per la comarca del Vallès Oriental i ja arriba a tot el nostre municipi.

URI:https://www.canovesisamalus.cat/actualitat/noticies/la-fibra-optica-ja-es-una-realitat-a-canoves-i-samalus.html
CLASS:PUBLIC
END:VEVENT
END:VCALENDAR
