BEGIN:VCALENDAR
VERSION:2.0
CALSCALE:GREGORIAN
PRODID:-//Diputació de Barcelona//DibaCMS//EN
BEGIN:VEVENT
UID:2064
DTSTAMP:20260423T192024
DTSTART:20191126T090000
DTEND:20191126T113000
SUMMARY:Impuls a la transició energètica en clau territorial
LOCATION:Teatre Auditori de Cardedeu – Avda. Rei en Jaume, 118 – 08440 Cardedeu 
METHOD:PUBLISH
X-WR-CALNAME:canovesisamalus@canovesisamalus.cat
X-WR-TIMEZONE:Europe/Madrid
DESCRIPTION:5è Fòrum Industrial i Empresarial

Vallforners Economia Circular – Eficiència energètica

URI:https://www.canovesisamalus.cat/actualitat/agenda-municipal/impuls-a-la-transicio-energetica-en-clau-territorial.html
CLASS:PUBLIC
END:VEVENT
END:VCALENDAR
