BEGIN:VCALENDAR
VERSION:2.0
CALSCALE:GREGORIAN
PRODID:-//Diputació de Barcelona//DibaCMS//EN
BEGIN:VEVENT
UID:2068
DTSTAMP:20260423T215303
DTSTART:20191213T163000
DTEND:20191213T180000
SUMMARY:PARADA DE LA MARATÓ DE L´ESCOLA L´ESTELADA
LOCATION:Camp de Can Parera, s/n  08445 Cànoves i Samalús
METHOD:PUBLISH
X-WR-CALNAME:canovesisamalus@canovesisamalus.cat
X-WR-TIMEZONE:Europe/Madrid
DESCRIPTION:Activitat programada per La Marató de TV3 a Cànoves i Samalús.

URI:https://www.canovesisamalus.cat/actualitat/agenda-municipal/2068-parada-de-la-marato-de-lescola-lestelada.html
CLASS:PUBLIC
END:VEVENT
END:VCALENDAR
