BEGIN:VCALENDAR
VERSION:2.0
CALSCALE:GREGORIAN
PRODID:-//Diputació de Barcelona//DibaCMS//EN
BEGIN:VEVENT
UID:2070
DTSTAMP:20260423T175739
DTSTART:20191214T090000
DTEND:20191214T235900
SUMMARY:La Marató de TV3 a Samalús
LOCATION:
METHOD:PUBLISH
X-WR-CALNAME:canovesisamalus@canovesisamalus.cat
X-WR-TIMEZONE:Europe/Madrid
DESCRIPTION:Activitats programades per La Marató de TV3 a Cànoves i Samalús.

URI:https://www.canovesisamalus.cat/actualitat/agenda-municipal/la-marato-de-tv3-a-samalus.html
CLASS:PUBLIC
END:VEVENT
END:VCALENDAR
