BEGIN:VCALENDAR
VERSION:2.0
CALSCALE:GREGORIAN
PRODID:-//Diputació de Barcelona//DibaCMS//EN
BEGIN:VEVENT
UID:2082
DTSTAMP:20260423T175718
DTSTART:20191129T140600
DTEND:20191229T000000
SUMMARY:L’Ajuntament adquireix un sonòmetre per a la guàrdia municipal
LOCATION:
METHOD:PUBLISH
X-WR-CALNAME:canovesisamalus@canovesisamalus.cat
X-WR-TIMEZONE:Europe/Madrid
DESCRIPTION:El municipi disposa actualment d’un Mapa de capacitat acústica del municipi aprovat enguany en Junta de Govern.

URI:https://www.canovesisamalus.cat/actualitat/noticies/lajuntament-adquireix-un-sonometre-per-a-la-guardia-municipal.html
CLASS:PUBLIC
END:VEVENT
END:VCALENDAR
