BEGIN:VCALENDAR
VERSION:2.0
CALSCALE:GREGORIAN
PRODID:-//Diputació de Barcelona//DibaCMS//EN
BEGIN:VEVENT
UID:2094
DTSTAMP:20260423T220630
DTSTART:20191211T140700
DTEND:20200110T000000
SUMMARY:Un 2020 sense plàstic
LOCATION:
METHOD:PUBLISH
X-WR-CALNAME:canovesisamalus@canovesisamalus.cat
X-WR-TIMEZONE:Europe/Madrid
DESCRIPTION:​Des de l’entrada de NiU al Consistori que cada any se celebra l’Assemblea Ciutadana que, entre d’altres temes, integren els pressupostos participatius.

URI:https://www.canovesisamalus.cat/actualitat/noticies/un-2020-sense-plastic.html
CLASS:PUBLIC
END:VEVENT
END:VCALENDAR
