BEGIN:VCALENDAR
VERSION:2.0
CALSCALE:GREGORIAN
PRODID:-//Diputació de Barcelona//DibaCMS//EN
BEGIN:VEVENT
UID:2097
DTSTAMP:20260423T204233
DTSTART:20191216T090000
DTEND:20200112T000000
SUMMARY:El Consorci expedienta l’empresa sinistrada a Montornès
LOCATION:
METHOD:PUBLISH
X-WR-CALNAME:canovesisamalus@canovesisamalus.cat
X-WR-TIMEZONE:Europe/Madrid
DESCRIPTION:​Tècnics del Consorci, en coordinació amb l’ACA i altres administracions, ham treballat per conèixer l’abast de l’afecció ambiental.

URI:https://www.canovesisamalus.cat/actualitat/noticies/el-consorci-expedienta-lempresa-sinistrada-a-montornes.html
CLASS:PUBLIC
END:VEVENT
END:VCALENDAR
