BEGIN:VCALENDAR
VERSION:2.0
CALSCALE:GREGORIAN
PRODID:-//Diputació de Barcelona//DibaCMS//EN
BEGIN:VEVENT
UID:2112
DTSTAMP:20260423T220451
DTSTART:20200118T210000
DTEND:20200118T235900
SUMMARY:Festa Major de Sant Sebastià
LOCATION:Can Casademunt, s/n  08445 Cànoves i Samalús
METHOD:PUBLISH
X-WR-CALNAME:canovesisamalus@canovesisamalus.cat
X-WR-TIMEZONE:Europe/Madrid
DESCRIPTION:Festa Major de Sant Sebasà.  18, 19 i 20 de gener a Cànoves.

URI:https://www.canovesisamalus.cat/actualitat/agenda-municipal/2112-festa-major-de-sant-sebastia.html
CLASS:PUBLIC
END:VEVENT
END:VCALENDAR
