BEGIN:VCALENDAR
VERSION:2.0
CALSCALE:GREGORIAN
PRODID:-//Diputació de Barcelona//DibaCMS//EN
BEGIN:VEVENT
UID:2114
DTSTAMP:20260423T192958
DTSTART:20200120T110000
DTEND:20200120T180000
SUMMARY:Festa Major de Sant Sebastià
LOCATION:
METHOD:PUBLISH
X-WR-CALNAME:canovesisamalus@canovesisamalus.cat
X-WR-TIMEZONE:Europe/Madrid
DESCRIPTION:Festa Major de Sant Sebasà.  18, 19 i 20 de gener a Cànoves.

20 de gener: Festivitat local de Cànoves

URI:https://www.canovesisamalus.cat/actualitat/agenda-municipal/2114-festa-major-de-sant-sebastia.html
CLASS:PUBLIC
END:VEVENT
END:VCALENDAR
