BEGIN:VCALENDAR
VERSION:2.0
CALSCALE:GREGORIAN
PRODID:-//Diputació de Barcelona//DibaCMS//EN
BEGIN:VEVENT
UID:2119
DTSTAMP:20260423T191940
DTSTART:20200116T090000
DTEND:20200213T000000
SUMMARY:Cànoves i Samalús aquest gener
LOCATION:
METHOD:PUBLISH
X-WR-CALNAME:canovesisamalus@canovesisamalus.cat
X-WR-TIMEZONE:Europe/Madrid
DESCRIPTION:Estigues al dia del què passa al municipi aquest mes de gener.

URI:https://www.canovesisamalus.cat/actualitat/noticies/canoves-i-samalus-aquest-gener.html
CLASS:PUBLIC
END:VEVENT
END:VCALENDAR
