BEGIN:VCALENDAR
VERSION:2.0
CALSCALE:GREGORIAN
PRODID:-//Diputació de Barcelona//DibaCMS//EN
BEGIN:VEVENT
UID:2124
DTSTAMP:20260423T220951
DTSTART:20200127T163000
DTEND:20200127T183000
SUMMARY:Taller: Activa't
LOCATION:Francesc Bruguera, s/n  08445 Cànoves i Samalús
METHOD:PUBLISH
X-WR-CALNAME:canovesisamalus@canovesisamalus.cat
X-WR-TIMEZONE:Europe/Madrid
DESCRIPTION:
URI:https://www.canovesisamalus.cat/actualitat/oferta-formativa/taller-activat.html
CLASS:PUBLIC
END:VEVENT
END:VCALENDAR
