BEGIN:VCALENDAR
VERSION:2.0
CALSCALE:GREGORIAN
PRODID:-//Diputació de Barcelona//DibaCMS//EN
BEGIN:VEVENT
UID:2127
DTSTAMP:20260423T220649
DTSTART:20200123T100000
DTEND:20200215T000000
SUMMARY:El Galliner repeteix enguany amb més activitats per la nostra gent gran
LOCATION:
METHOD:PUBLISH
X-WR-CALNAME:canovesisamalus@canovesisamalus.cat
X-WR-TIMEZONE:Europe/Madrid
DESCRIPTION:La nova Junta del Casal de la Gent Gran El Galliner presenta enguany la nova graella per aquest 2020 on es destaquen més activitats a desenvolupar durant l’any. 

URI:https://www.canovesisamalus.cat/actualitat/noticies/el-galliner-repeteix-enguany-amb-mes-activitats-per-la-nostra-gent-gran.html
CLASS:PUBLIC
END:VEVENT
END:VCALENDAR
