BEGIN:VCALENDAR
VERSION:2.0
CALSCALE:GREGORIAN
PRODID:-//Diputació de Barcelona//DibaCMS//EN
BEGIN:VEVENT
UID:2130
DTSTAMP:20260423T220746
DTSTART:20200117T140000
DTEND:20200215T000000
SUMMARY:El Consumidor també protegit a Europa 
LOCATION:
METHOD:PUBLISH
X-WR-CALNAME:canovesisamalus@canovesisamalus.cat
X-WR-TIMEZONE:Europe/Madrid
DESCRIPTION:Avui entra en funcionament la nova Xarxa Europea de Cooperació per a la Protecció dels Consumidors (Xarxa CPC).

URI:https://www.canovesisamalus.cat/actualitat/noticies/el-consumidor-tambe-protegit-a-europa-.html
CLASS:PUBLIC
END:VEVENT
END:VCALENDAR
