BEGIN:VCALENDAR
VERSION:2.0
CALSCALE:GREGORIAN
PRODID:-//Diputació de Barcelona//DibaCMS//EN
BEGIN:VEVENT
UID:2141
DTSTAMP:20260423T204410
DTSTART:20200130T010000
DTEND:20200228T000000
SUMMARY:Un 2020 amb bonificacions per als contribuents
LOCATION:
METHOD:PUBLISH
X-WR-CALNAME:canovesisamalus@canovesisamalus.cat
X-WR-TIMEZONE:Europe/Madrid
DESCRIPTION:​El Govern local bonifica a les famílies nombroses i monoparentals i també al contribuent actiu per la cura del Medi Ambient.

URI:https://www.canovesisamalus.cat/actualitat/noticies/un-2020-amb-bonificacions-per-als-contribuents.html
CLASS:PUBLIC
END:VEVENT
END:VCALENDAR
