BEGIN:VCALENDAR
VERSION:2.0
CALSCALE:GREGORIAN
PRODID:-//Diputació de Barcelona//DibaCMS//EN
BEGIN:VEVENT
UID:2146
DTSTAMP:20260423T220925
DTSTART:20200204T134500
DTEND:20200305T000000
SUMMARY:L’Escola Estelada també hi és
LOCATION:
METHOD:PUBLISH
X-WR-CALNAME:canovesisamalus@canovesisamalus.cat
X-WR-TIMEZONE:Europe/Madrid
DESCRIPTION:​Més de mil escoles de tot Catalunya s’han inscrit al XVI Certamen Nacional Infantil i Juvenil de Lectura en Veu Alta (CLVA).

URI:https://www.canovesisamalus.cat/actualitat/noticies/lescola-estelada-tambe-hi-es.html
CLASS:PUBLIC
END:VEVENT
END:VCALENDAR
