BEGIN:VCALENDAR
VERSION:2.0
CALSCALE:GREGORIAN
PRODID:-//Diputació de Barcelona//DibaCMS//EN
BEGIN:VEVENT
UID:2147
DTSTAMP:20260422T095447
DTSTART:20200206T130900
DTEND:20200307T000000
SUMMARY:La Pedalada del Senglar torna a trepitjar terres canovines
LOCATION:
METHOD:PUBLISH
X-WR-CALNAME:canovesisamalus@canovesisamalus.cat
X-WR-TIMEZONE:Europe/Madrid
DESCRIPTION:Arriba la novena edició d’aquesta cursa popular de BTT que transcorre per pistes, camins forestals, granges particulars i l’entorn natural del Montseny.

URI:https://www.canovesisamalus.cat/actualitat/noticies/la-pedalada-del-senglar-torna-a-trepitjar-terres-canovines.html
CLASS:PUBLIC
END:VEVENT
END:VCALENDAR
